BEGIN:VCALENDAR
VERSION:2.0
PRODID:-//Arlington Historical Society - ECPv6.15.20//NONSGML v1.0//EN
CALSCALE:GREGORIAN
METHOD:PUBLISH
X-WR-CALNAME:Arlington Historical Society
X-ORIGINAL-URL:https://arlhist.org
X-WR-CALDESC:Events for Arlington Historical Society
REFRESH-INTERVAL;VALUE=DURATION:PT1H
X-Robots-Tag:noindex
X-PUBLISHED-TTL:PT1H
BEGIN:VTIMEZONE
TZID:America/New_York
BEGIN:DAYLIGHT
TZOFFSETFROM:-0500
TZOFFSETTO:-0400
TZNAME:EDT
DTSTART:20250309T070000
END:DAYLIGHT
BEGIN:STANDARD
TZOFFSETFROM:-0400
TZOFFSETTO:-0500
TZNAME:EST
DTSTART:20251102T060000
END:STANDARD
BEGIN:DAYLIGHT
TZOFFSETFROM:-0500
TZOFFSETTO:-0400
TZNAME:EDT
DTSTART:20260308T070000
END:DAYLIGHT
BEGIN:STANDARD
TZOFFSETFROM:-0400
TZOFFSETTO:-0500
TZNAME:EST
DTSTART:20261101T060000
END:STANDARD
BEGIN:DAYLIGHT
TZOFFSETFROM:-0500
TZOFFSETTO:-0400
TZNAME:EDT
DTSTART:20270314T070000
END:DAYLIGHT
BEGIN:STANDARD
TZOFFSETFROM:-0400
TZOFFSETTO:-0500
TZNAME:EST
DTSTART:20271107T060000
END:STANDARD
END:VTIMEZONE
BEGIN:VEVENT
DTSTART;VALUE=DATE:20260301
DTEND;VALUE=DATE:20260331
DTSTAMP:20260419T161033
CREATED:20260212T123047Z
LAST-MODIFIED:20260212T123047Z
UID:20585-1772323200-1774915199@arlhist.org
SUMMARY:New Exhibit: Collective Voices: Women's Clubs and Local Change
DESCRIPTION:Opening on March 1st for Women’s History Month\, this exhibit explores the history and impact of the Woman’s Club of Arlington and other women’s clubs across the county. Through service projects\, public health campaigns\, educational advocacy\, and community programs\, Arlington’s clubwomen shaped civic life throughout the 20th century. Discover how organized women built networks of leadership and left a lasting mark on the community. \nFree and open to the public. \nThe Arlington Historical Museum is open Saturdays 10-4 and Sundays 1-4 PM.
URL:https://arlhist.org/event/new-exhibit-collective-voices-womens-clubs-and-local-change/
LOCATION:Arlington Historical Museum\, 1805 South Arlington Ridge Road\, Arlington\, 22207\, United States
ATTACH;FMTTYPE=image/png:https://arlhist.org/wp-content/uploads/2026/02/Screenshot-2026-02-11-103748.png
END:VEVENT
BEGIN:VEVENT
DTSTART;TZID=America/New_York:20260322T123000
DTEND;TZID=America/New_York:20260322T133000
DTSTAMP:20260419T161033
CREATED:20260321T191752Z
LAST-MODIFIED:20260321T191752Z
UID:20875-1774182600-1774186200@arlhist.org
SUMMARY:Dedication of Five Stumbling Stones in Alcova
DESCRIPTION:The Arlington Historical Society and the Black Heritage Museum of Arlington invite you to the unveiling of “Stumbling Stones.” These bronze markers commemorate the lives of the enslaved people who helped build our county (and our country) and are placed in the sidewalk at the last known site of their enslavement. Memorializing the Enslaved in Arlington’s research has revealed over 2750 enslaved people and identified 1050 by name. \nDedication Ceremony \nWe will honor five individuals once enslaved in the Alcova Heights neighborhood: John\, Margaret Brown\, and three people whose names are unknown. \nWe will be honoring them at Arlington Presbyterian Church; 918 S. Lincoln Street; Arlington\, VA 22204 \nMemorial Unveilings \nAfter the dedication ceremony\, t he memorials will be unveiled at South Lincoln and 9th Streets and at South Randolph and 8th Streets. \nTheir Story\nIn 1847\, William and Elizabeth Berryman bought 34 acres of land by Columbia Pike and South Glebe Road. To build and maintain their farmhouse and cultivate the fields\, the Berryman’s enslaved two young men and a woman\, all under the age of 25. They cultivated oats\, corn\, and grains and took care of their home and family. Financial troubles caused the Berryman’s to sell their tract in 1853. What became of their enslaved people is unknown. \nIn 1851\, John M. Young\, a Washington\, DC coachmaker\, purchased 108 acres of mostly unimproved land north or Columbia Pike and west of the Berryman farm. Young used enslaved laborers John\, Margaret Brown\, and at least 2 others whose names are unknown to plant and maintain his plentiful peach and apple orchards and cultivate his fields. \nJohn\, born around 1805\, was the subject of an 1855 Alexandria Gazette “runaway” advertisement. Young offered a $10 reward for John who fled his farm\, most probably to visit his wife\, enslaved in the District of Columbia. \nMargaret\, born before 1847\, was placed in a Washington jail for two days by Young while he attended to business in the city. Jail records show Young paid $1.68 for imprisoning Margaret. \nHelp us celebrate and honor John\, Margaret Brown\, and three individuals whose names are unknown and gain a greater understanding of Arlington’s complicated past. Brief remarks will be offered. \nMemorializing the Enslaved in Arlington seeks to shed light upon these early Americans who contributed so much to the economic\, social\, and cultural development of our county. \nFor more information\, please contact Jessica Kaplan from the Arlington Historical Society at ahsedlink@gmail.com.
URL:https://arlhist.org/event/dedication-of-five-stumbling-stones-in-alcova/
LOCATION:Arlington Presbyterian Church\, 918 S. Lincoln Street\, Arlington\, VA\, 22204\, United States
CATEGORIES:VA250
ATTACH;FMTTYPE=image/png:https://arlhist.org/wp-content/uploads/2026/01/MEA-LogoDesignDoubleLinesAltThickness.png
END:VEVENT
BEGIN:VEVENT
DTSTART;TZID=America/New_York:20260322T140000
DTEND;TZID=America/New_York:20260322T143000
DTSTAMP:20260419T161033
CREATED:20260212T123652Z
LAST-MODIFIED:20260212T123841Z
UID:20588-1774188000-1774189800@arlhist.org
SUMMARY:15-Minute History: Women's Clubs in Arlington
DESCRIPTION:Join club member Sandy Newton for a 15-Minute History exploring the rich legacy of women’s clubs in Arlington County. From the founding of the Woman’s Club of Arlington to the growth of neighborhood clubs across the county\, these organizations gave women a powerful voice in civic life. Learn how club members championed education\, public health initiatives like Red Cross campaigns and voter registration\, and community programs that shaped Arlington throughout the 20th century. \nFree and open to the public. \n 
URL:https://arlhist.org/event/15-minute-history-womens-clubs-in-arlington/
LOCATION:Arlington Historical Museum\, 1805 South Arlington Ridge Road\, Arlington\, 22207\, United States
ATTACH;FMTTYPE=image/jpeg:https://arlhist.org/wp-content/uploads/2026/02/Womens-Club-in-parade6.jpg
END:VEVENT
END:VCALENDAR