BEGIN:VCALENDAR
VERSION:2.0
PRODID:-//Arlington Historical Society - ECPv6.15.20//NONSGML v1.0//EN
CALSCALE:GREGORIAN
METHOD:PUBLISH
X-WR-CALNAME:Arlington Historical Society
X-ORIGINAL-URL:https://arlhist.org
X-WR-CALDESC:Events for Arlington Historical Society
REFRESH-INTERVAL;VALUE=DURATION:PT1H
X-Robots-Tag:noindex
X-PUBLISHED-TTL:PT1H
BEGIN:VTIMEZONE
TZID:America/New_York
BEGIN:DAYLIGHT
TZOFFSETFROM:-0500
TZOFFSETTO:-0400
TZNAME:EDT
DTSTART:20250309T070000
END:DAYLIGHT
BEGIN:STANDARD
TZOFFSETFROM:-0400
TZOFFSETTO:-0500
TZNAME:EST
DTSTART:20251102T060000
END:STANDARD
BEGIN:DAYLIGHT
TZOFFSETFROM:-0500
TZOFFSETTO:-0400
TZNAME:EDT
DTSTART:20260308T070000
END:DAYLIGHT
BEGIN:STANDARD
TZOFFSETFROM:-0400
TZOFFSETTO:-0500
TZNAME:EST
DTSTART:20261101T060000
END:STANDARD
BEGIN:DAYLIGHT
TZOFFSETFROM:-0500
TZOFFSETTO:-0400
TZNAME:EDT
DTSTART:20270314T070000
END:DAYLIGHT
BEGIN:STANDARD
TZOFFSETFROM:-0400
TZOFFSETTO:-0500
TZNAME:EST
DTSTART:20271107T060000
END:STANDARD
END:VTIMEZONE
BEGIN:VEVENT
DTSTART;TZID=America/New_York:20260518T080000
DTEND;TZID=America/New_York:20260731T170000
DTSTAMP:20260422T074430
CREATED:20260421T133823Z
LAST-MODIFIED:20260421T180950Z
UID:21017-1779091200-1785517200@arlhist.org
SUMMARY:New Exhibit: Who Decides? Governing Arlington Through Time
DESCRIPTION:Explore how Arlington has been governed\, and who has held the power to make decisions\, over time in Who Decides? Governing Arlington Through Time. This exhibit traces the county’s evolving systems of leadership\, from its early days as part of the District of Columbia to its return to Virginia and the development of today’s county board system. \nThrough stories of civic debate\, reform\, and community action\, visitors will discover how Arlingtonians have shaped their government and how questions of representation\, voice\, and power continue to matter today.
URL:https://arlhist.org/event/new-exhibit-who-decides-governing-arlington-through-time/
LOCATION:Arlington Historical Museum\, 1805 South Arlington Ridge Road\, Arlington\, 22207\, United States
CATEGORIES:VA250
END:VEVENT
END:VCALENDAR